BEGIN:VCALENDAR
VERSION:2.0
PRODID:SchoolNow
CALSCALE:GREGORIAN
BEGIN:VEVENT
UID:fba233ac-2b7b-11e8-b91e-129434b6b42e
DTSTAMP:20180319T140230Z
SUMMARY:Spring NWEA MAP Testing Grades K-4th
URL;VALUE=URI:https://www.gls36.org/calendar/1739389/spring-nwea-map-testin
 g-grades-k4th
DTSTART:20180510T124500Z
DTEND:20180510T154300Z
END:VEVENT
END:VCALENDAR
