BEGIN:VCALENDAR
VERSION:2.0
PRODID:SchoolNow
CALSCALE:GREGORIAN
BEGIN:VEVENT
UID:bbb644c2-2b7b-11e8-9dd9-12fbd8db37ca
DTSTAMP:20180423T194917Z
SUMMARY:Spring NWEA MAP Testing Grades 5 - 8th
URL;VALUE=URI:https://www.gls36.org/calendar/1739388/spring-nwea-map-testin
 g-grades-5th-8th
DTSTART:20180508T124500Z
DTEND:20180508T144300Z
END:VEVENT
END:VCALENDAR
