BEGIN:VCALENDAR
VERSION:2.0
PRODID:SchoolNow
CALSCALE:GREGORIAN
BEGIN:VEVENT
UID:593f8326-2888-11e8-8286-0aba2fe6a9a4
DTSTAMP:20180530T130333Z
SUMMARY:All School Awards Assembly
URL;VALUE=URI:https://www.gls36.org/calendar/1738735/all-school-awards-asse
 mbly
DTSTART:20180531T181500Z
DTEND:20180531T193000Z
END:VEVENT
END:VCALENDAR
