BEGIN:VCALENDAR
VERSION:2.0
PRODID:SchoolNow
CALSCALE:GREGORIAN
BEGIN:VEVENT
UID:0093cf66-2888-11e8-82d8-12f573b8187a
DTSTAMP:20180315T193616Z
SUMMARY:Sports Banquet
URL;VALUE=URI:https://www.gls36.org/calendar/1738731/sports-banquet
DTSTART:20180524T194500Z
DTEND:20180524T213000Z
END:VEVENT
END:VCALENDAR
