BEGIN:VCALENDAR
VERSION:2.0
PRODID:SchoolNow
CALSCALE:GREGORIAN
BEGIN:VEVENT
UID:668fcf64-2887-11e8-95be-12075fbe5b28
DTSTAMP:20180315T193104Z
SUMMARY:Jr. High Choir Performance at Great America
URL;VALUE=URI:https://www.gls36.org/calendar/1738726/jr-high-choir-performa
 nce-at-great-america
DTSTART:20180511T134000Z
DTEND:20180512T134500Z
END:VEVENT
END:VCALENDAR
