BEGIN:VCALENDAR
VERSION:2.0
PRODID:SchoolNow
CALSCALE:GREGORIAN
BEGIN:VEVENT
UID:11a71a0c-2887-11e8-92c1-12dcbc9d3bda
DTSTAMP:20180315T192841Z
SUMMARY:Swimming at the YMCA for students in K-5th grade
URL;VALUE=URI:https://www.gls36.org/calendar/1738723/swimming-at-the-ymca-f
 or-students-in-k5th-grade
DTSTART:20180525T192800Z
DTEND:20180525T202800Z
END:VEVENT
END:VCALENDAR
