BEGIN:VCALENDAR
VERSION:2.0
PRODID:SchoolNow
CALSCALE:GREGORIAN
BEGIN:VEVENT
UID:f87ed696-2886-11e8-87b0-12dcbc9d3bda
DTSTAMP:20180315T192759Z
SUMMARY:Swimming at the YMCA for students in K-5th grade
URL;VALUE=URI:https://www.gls36.org/calendar/1738722/swimming-at-the-ymca-f
 or-students-in-k5th-grade
DTSTART:20180518T192700Z
DTEND:20180518T202700Z
END:VEVENT
END:VCALENDAR
