BEGIN:VCALENDAR
VERSION:2.0
PRODID:SchoolNow
CALSCALE:GREGORIAN
BEGIN:VEVENT
UID:dea511d6-2886-11e8-82d4-12dcbc9d3bda
DTSTAMP:20180315T192716Z
SUMMARY:Swimming at the YMCA for students in K-5th grade
URL;VALUE=URI:https://www.gls36.org/calendar/1738721/swimming-at-the-ymca-f
 or-students-in-k5th-grade
DTSTART:20180511T192600Z
DTEND:20180511T202600Z
END:VEVENT
END:VCALENDAR
