BEGIN:VCALENDAR
VERSION:2.0
PRODID:SchoolNow
CALSCALE:GREGORIAN
BEGIN:VEVENT
UID:c44be67a-2886-11e8-85ca-12dcbc9d3bda
DTSTAMP:20180315T192631Z
SUMMARY:Swimming at the YMCA for students in K-5th grade
URL;VALUE=URI:https://www.gls36.org/calendar/1738720/swimming-at-the-ymca-f
 or-students-in-k5th-grade
DTSTART:20180504T192500Z
DTEND:20180504T202500Z
END:VEVENT
END:VCALENDAR
