BEGIN:VCALENDAR
VERSION:2.0
PRODID:SchoolNow
CALSCALE:GREGORIAN
BEGIN:VEVENT
UID:53ddbfa8-27aa-11e8-bc97-128b4557b692
DTSTAMP:20180314T170833Z
SUMMARY:NJHS and Student Council Field Trip
URL;VALUE=URI:https://www.gls36.org/calendar/1738069/njhs-and-student-counc
 il-field-trip
DTSTART:20180503T170600Z
DTEND:20180503T180600Z
END:VEVENT
END:VCALENDAR
