BEGIN:VCALENDAR
VERSION:2.0
PRODID:SchoolNow
CALSCALE:GREGORIAN
BEGIN:VEVENT
UID:0d449a76-27aa-11e8-b66e-121164515474
DTSTAMP:20180314T170635Z
SUMMARY:Field Trip for Grades 6 and 7
URL;VALUE=URI:https://www.gls36.org/calendar/1738068/field-trip-for-grades-
 6-and-7
DTSTART:20180501T130000Z
DTEND:20180501T180500Z
END:VEVENT
END:VCALENDAR
