BEGIN:VCALENDAR
VERSION:2.0
PRODID:SchoolNow
CALSCALE:GREGORIAN
BEGIN:VEVENT
UID:d33e2dae-ca1d-11e7-b171-0a9843c5b7e6
DTSTAMP:20180315T193155Z
SUMMARY:Fifth Grade Field Trip
URL;VALUE=URI:https://www.gls36.org/calendar/1659514/fifth-grade-field-trip
DTSTART;VALUE=DATE:20180515
DTEND;VALUE=DATE:20180516
END:VEVENT
END:VCALENDAR
