BEGIN:VCALENDAR
VERSION:2.0
PRODID:SchoolNow
CALSCALE:GREGORIAN
BEGIN:VEVENT
UID:c4998c0a-c3f9-11e7-a731-0a91c39321ac
DTSTAMP:20180417T125636Z
SUMMARY:Class of 2018 Graduation Dance
URL;VALUE=URI:https://www.gls36.org/calendar/1656627/class-of-2018-graduati
 on-dance
DTSTART:20180518T233000Z
DTEND:20180519T020000Z
END:VEVENT
END:VCALENDAR
