BEGIN:VCALENDAR
VERSION:2.0
PRODID:SchoolNow
CALSCALE:GREGORIAN
BEGIN:VEVENT
UID:606a9de2-c0b0-11e7-845d-12d68295ff8c
DTSTAMP:20171103T160819Z
SUMMARY:Eighth Grade Class Trip to Chicago
DESCRIPTION:Eighth Grade students will visit Chicago on May 17\, 2018.
URL;VALUE=URI:https://www.gls36.org/calendar/1654269/eighth-grade-class-tri
 p-to-chicago
DTSTART:20180517T130000Z
DTEND:20180518T003000Z
END:VEVENT
END:VCALENDAR
