BEGIN:VCALENDAR
VERSION:2.0
PRODID:SchoolNow
CALSCALE:GREGORIAN
BEGIN:VEVENT
UID:338486d4-b832-11e7-8554-129a81341c38
DTSTAMP:20180313T192752Z
SUMMARY:Last Day of School  1:00 pm dismissal
URL;VALUE=URI:https://www.gls36.org/calendar/1649707/last-day-of-school-wit
 h-no-emergency-days-1-00-pm-dismissal
DTSTART:20180604T124500Z
DTEND:20180604T180000Z
END:VEVENT
END:VCALENDAR
