BEGIN:VCALENDAR
VERSION:2.0
PRODID:SchoolNow
CALSCALE:GREGORIAN
BEGIN:VEVENT
UID:33847572-b832-11e7-8edc-129a81341c38
DTSTAMP:20171023T203901Z
SUMMARY:Memorial Day Holiday - No School
URL;VALUE=URI:https://www.gls36.org/calendar/1649705/memorial-day-holiday-n
 o-school
DTSTART:20180528T124500Z
DTEND:20180528T194500Z
END:VEVENT
END:VCALENDAR
