BEGIN:VCALENDAR
VERSION:2.0
PRODID:SchoolNow
CALSCALE:GREGORIAN
BEGIN:VEVENT
UID:33846424-b832-11e7-bc5e-129a81341c38
DTSTAMP:20171023T203901Z
SUMMARY:Early Dismissal - 1:00 pm
URL;VALUE=URI:https://www.gls36.org/calendar/1649703/early-dismissal-1-00-p
 m
DTSTART:20180502T124500Z
DTEND:20180502T180000Z
END:VEVENT
END:VCALENDAR
