BEGIN:VCALENDAR
VERSION:2.0
PRODID:SchoolNow
CALSCALE:GREGORIAN
BEGIN:VEVENT
UID:bb7b666a-f013-11ed-aa36-02f3c3712865
DTSTAMP:20230511T155145Z
SUMMARY:BOE Meeting
URL;VALUE=URI:https://www.gls36.org/boe/calendar/4224770/board-meeting-clon
 e-clone-clone-clone-clone-clone-clone-clone-clone-clone-clone-clone-clone-
 clone-clone-clone
DTSTART:20240917T233000Z
DTEND:20240918T003000Z
END:VEVENT
END:VCALENDAR
