BEGIN:VCALENDAR
VERSION:2.0
PRODID:SchoolNow
CALSCALE:GREGORIAN
BEGIN:VEVENT
UID:a4f6a094-f013-11ed-a235-02f3c3712865
DTSTAMP:20230511T155108Z
SUMMARY:BOE Meeting
URL;VALUE=URI:https://www.gls36.org/boe/calendar/4224766/board-meeting-clon
 e-clone-clone-clone-clone-clone-clone-clone-clone-clone-clone-clone-clone-
 clone
DTSTART:20240716T233000Z
DTEND:20240717T003000Z
END:VEVENT
END:VCALENDAR
