BEGIN:VCALENDAR
VERSION:2.0
PRODID:SchoolNow
CALSCALE:GREGORIAN
BEGIN:VEVENT
UID:83c11dfa-f013-11ed-8383-02f3c3712865
DTSTAMP:20230511T155012Z
SUMMARY:BOE Meeting
URL;VALUE=URI:https://www.gls36.org/boe/calendar/4224762/board-meeting-clon
 e-clone-clone-clone-clone-clone-clone-clone-clone-clone-clone-clone
DTSTART:20240521T233000Z
DTEND:20240522T003000Z
END:VEVENT
END:VCALENDAR
