BEGIN:VCALENDAR
VERSION:2.0
PRODID:SchoolNow
CALSCALE:GREGORIAN
BEGIN:VEVENT
UID:6361138a-f013-11ed-9bf2-02f3c3712865
DTSTAMP:20230511T154918Z
SUMMARY:BOE Meeting
URL;VALUE=URI:https://www.gls36.org/boe/calendar/4224757/board-meeting-clon
 e-clone-clone-clone-clone-clone-clone-clone-clone-clone
DTSTART:20240319T233000Z
DTEND:20240320T003000Z
END:VEVENT
END:VCALENDAR
