BEGIN:VCALENDAR
VERSION:2.0
PRODID:SchoolNow
CALSCALE:GREGORIAN
BEGIN:VEVENT
UID:568233ec-f013-11ed-a5f0-02f3c3712865
DTSTAMP:20230511T154856Z
SUMMARY:BOE Meeting
URL;VALUE=URI:https://www.gls36.org/boe/calendar/4224540/board-meeting-clon
 e-clone-clone-clone-clone-clone-clone-clone-clone
DTSTART:20240221T003000Z
DTEND:20240221T013000Z
END:VEVENT
END:VCALENDAR
