BEGIN:VCALENDAR
VERSION:2.0
PRODID:SchoolNow
CALSCALE:GREGORIAN
BEGIN:VEVENT
UID:31e7ce2a-f013-11ed-b8ce-02f3c3712865
DTSTAMP:20230511T154755Z
SUMMARY:BOE Meeting
URL;VALUE=URI:https://www.gls36.org/boe/calendar/4224445/board-meeting-clon
 e-clone-clone-clone-clone-clone-clone-clone
DTSTART:20240117T003000Z
DTEND:20240117T013000Z
END:VEVENT
END:VCALENDAR
