BEGIN:VCALENDAR
VERSION:2.0
PRODID:SchoolNow
CALSCALE:GREGORIAN
BEGIN:VEVENT
UID:f7b8289e-f012-11ed-8194-02f3c3712865
DTSTAMP:20230511T154617Z
SUMMARY:BOE Meeting
URL;VALUE=URI:https://www.gls36.org/boe/calendar/4223994/board-meeting-clon
 e-clone-clone-clone-clone-clone-clone
DTSTART:20231220T003000Z
DTEND:20231220T013000Z
END:VEVENT
END:VCALENDAR
