BEGIN:VCALENDAR
VERSION:2.0
PRODID:SchoolNow
CALSCALE:GREGORIAN
BEGIN:VEVENT
UID:3d9dd47e-f010-11ed-9b1e-0262dbee05b9
DTSTAMP:20230926T140319Z
SUMMARY:BOE Meeting
URL;VALUE=URI:https://www.gls36.org/boe/calendar/4223180/board-meeting-clon
 e-clone-clone-clone-clone-clone
DTSTART:20231115T003000Z
DTEND:20231115T013000Z
END:VEVENT
END:VCALENDAR
