BEGIN:VCALENDAR
VERSION:2.0
PRODID:SchoolNow
CALSCALE:GREGORIAN
BEGIN:VEVENT
UID:e2a8eba0-f00d-11ed-bb5a-02ae4f08fab3
DTSTAMP:20230511T150954Z
SUMMARY:BOE Meeting
URL;VALUE=URI:https://www.gls36.org/boe/calendar/4223135/board-meeting-clon
 e-clone-clone-clone-clone
DTSTART:20231017T233000Z
DTEND:20231018T003000Z
END:VEVENT
END:VCALENDAR
