BEGIN:VCALENDAR
VERSION:2.0
PRODID:SchoolNow
CALSCALE:GREGORIAN
BEGIN:VEVENT
UID:d0a4bf42-f00d-11ed-ba3c-02ae4f08fab3
DTSTAMP:20230511T150924Z
SUMMARY:BOE Meeting
URL;VALUE=URI:https://www.gls36.org/boe/calendar/4223133/board-meeting-clon
 e-clone-clone-clone
DTSTART:20230919T233000Z
DTEND:20230920T003000Z
END:VEVENT
END:VCALENDAR
