BEGIN:VCALENDAR
VERSION:2.0
PRODID:SchoolNow
CALSCALE:GREGORIAN
BEGIN:VEVENT
UID:b513d25e-f00d-11ed-a24c-02ae4f08fab3
DTSTAMP:20230511T150838Z
SUMMARY:BOE Meeting
URL;VALUE=URI:https://www.gls36.org/boe/calendar/4223131/board-meeting-clon
 e-clone-clone
DTSTART:20230815T233000Z
DTEND:20230816T003000Z
END:VEVENT
END:VCALENDAR
