BEGIN:VCALENDAR
VERSION:2.0
PRODID:SchoolNow
CALSCALE:GREGORIAN
BEGIN:VEVENT
UID:a34c4e34-f00d-11ed-a91e-02ae4f08fab3
DTSTAMP:20230511T150808Z
SUMMARY:BOE Meeting
URL;VALUE=URI:https://www.gls36.org/boe/calendar/4223129/board-meeting-clon
 e-clone
DTSTART:20230718T233000Z
DTEND:20230719T003000Z
END:VEVENT
END:VCALENDAR
