BEGIN:VCALENDAR
VERSION:2.0
PRODID:SchoolNow
CALSCALE:GREGORIAN
BEGIN:VEVENT
UID:92e75fd4-f00d-11ed-aaaf-02ae4f08fab3
DTSTAMP:20230511T150740Z
SUMMARY:BOE Meeting
URL;VALUE=URI:https://www.gls36.org/boe/calendar/4223127/board-meeting-clon
 e
DTSTART:20230620T233000Z
DTEND:20230621T003000Z
END:VEVENT
END:VCALENDAR
