BEGIN:VCALENDAR
VERSION:2.0
PRODID:SchoolNow
CALSCALE:GREGORIAN
BEGIN:VEVENT
UID:78ec5e4a-f00d-11ed-8f85-02ae4f08fab3
DTSTAMP:20230511T150723Z
SUMMARY:BOE Meeting
URL;VALUE=URI:https://www.gls36.org/boe/calendar/4223125/board-meeting
DTSTART:20230516T233000Z
DTEND:20230517T003000Z
END:VEVENT
END:VCALENDAR
