BEGIN:VCALENDAR
VERSION:2.0
PRODID:SchoolNow
CALSCALE:GREGORIAN
BEGIN:VEVENT
UID:df8344a6-a137-11eb-9116-0a367ffe3f7d
DTSTAMP:20210428T185642Z
SUMMARY:Board of Education Meeting*
URL;VALUE=URI:https://www.gls36.org/boe/calendar/2582108/board-of-education
 -meeting
DTSTART:20230425T233000Z
DTEND:20230426T030000Z
END:VEVENT
END:VCALENDAR
