BEGIN:VCALENDAR
VERSION:2.0
PRODID:SchoolNow
CALSCALE:GREGORIAN
BEGIN:VEVENT
UID:bc3c6d06-a137-11eb-a8db-0a367ffe3f7d
DTSTAMP:20210428T120018Z
SUMMARY:Board of Education Meeting
URL;VALUE=URI:https://www.gls36.org/boe/calendar/2582106/board-of-education
 -meeting
DTSTART:20230321T233000Z
DTEND:20230322T030000Z
END:VEVENT
END:VCALENDAR
