BEGIN:VCALENDAR
VERSION:2.0
PRODID:SchoolNow
CALSCALE:GREGORIAN
BEGIN:VEVENT
UID:9d35763c-a137-11eb-9070-0a367ffe3f7d
DTSTAMP:20210428T120018Z
SUMMARY:Board of Education Meeting
URL;VALUE=URI:https://www.gls36.org/boe/calendar/2582104/board-of-education
 -meeting
DTSTART:20230222T003000Z
DTEND:20230222T040000Z
END:VEVENT
END:VCALENDAR
