BEGIN:VCALENDAR
VERSION:2.0
PRODID:SchoolNow
CALSCALE:GREGORIAN
BEGIN:VEVENT
UID:4cd94a7e-a137-11eb-ae02-0a367ffe3f7d
DTSTAMP:20210428T120017Z
SUMMARY:Board of Education Meeting
URL;VALUE=URI:https://www.gls36.org/boe/calendar/2582102/board-of-education
 -meeting
DTSTART:20230118T003000Z
DTEND:20230118T040000Z
END:VEVENT
END:VCALENDAR
